BEGIN:VCALENDAR
VERSION:2.0
PRODID:-//PAL Robotics - ECPv6.15.15//NONSGML v1.0//EN
CALSCALE:GREGORIAN
METHOD:PUBLISH
X-WR-CALNAME:PAL Robotics
X-ORIGINAL-URL:https://pal-robotics.com
X-WR-CALDESC:Events for PAL Robotics
REFRESH-INTERVAL;VALUE=DURATION:PT1H
X-Robots-Tag:noindex
X-PUBLISHED-TTL:PT1H
BEGIN:VTIMEZONE
TZID:Europe/Madrid
BEGIN:DAYLIGHT
TZOFFSETFROM:+0100
TZOFFSETTO:+0200
TZNAME:CEST
DTSTART:20250330T010000
END:DAYLIGHT
BEGIN:STANDARD
TZOFFSETFROM:+0200
TZOFFSETTO:+0100
TZNAME:CET
DTSTART:20251026T010000
END:STANDARD
BEGIN:DAYLIGHT
TZOFFSETFROM:+0100
TZOFFSETTO:+0200
TZNAME:CEST
DTSTART:20260329T010000
END:DAYLIGHT
BEGIN:STANDARD
TZOFFSETFROM:+0200
TZOFFSETTO:+0100
TZNAME:CET
DTSTART:20261025T010000
END:STANDARD
BEGIN:DAYLIGHT
TZOFFSETFROM:+0100
TZOFFSETTO:+0200
TZNAME:CEST
DTSTART:20270328T010000
END:DAYLIGHT
BEGIN:STANDARD
TZOFFSETFROM:+0200
TZOFFSETTO:+0100
TZNAME:CET
DTSTART:20271031T010000
END:STANDARD
END:VTIMEZONE
BEGIN:VEVENT
DTSTART;VALUE=DATE:20260505
DTEND;VALUE=DATE:20260508
DTSTAMP:20260425T172501
CREATED:20260423T160850Z
LAST-MODIFIED:20260423T161038Z
UID:54773-1777939200-1778198399@pal-robotics.com
SUMMARY:Advanced Factories 2026
DESCRIPTION:🤖 Automated Inventory Excellence: Meet StockBot at Advanced Factories\nJoin us at Advanced Factories 2026\, the region’s largest meeting point for industrial automation and digital manufacturing. As the event celebrates its 10th anniversary\, we are thrilled to showcase how robotics is transforming the supply chain and retail landscape. \nThe star of our booth this year is StockBot\, our flagship autonomous inventory robot. Watch StockBot in action as it demonstrates its industry-leading RFID and Vision capabilities\, performing automated stock takes with 99% accuracy. Designed to work seamlessly alongside human teams without needing layout modifications\, StockBot is the key to achieving a truly data-driven warehouse or retail space. \nVisit us to see how StockBot can help you eliminate out-of-stock situations and optimize your inventory management in real-time. \nJoin us in Barcelona!
URL:https://pal-robotics.com/event/advanced-factories-2026/
LOCATION:Fira Barcelona Gran Vía\, Av. Joan Carles I\, 64\, L’Hospitalet de Llobregat\, Barcelona\, 8908\, Spain
ATTACH;FMTTYPE=image/webp:https://pal-robotics.com/wp-content/uploads/2026/04/AdvancedFactories_Banner-ENG-scaled.webp
END:VEVENT
BEGIN:VEVENT
DTSTART;VALUE=DATE:20260601
DTEND;VALUE=DATE:20260606
DTSTAMP:20260425T172501
CREATED:20260113T121903Z
LAST-MODIFIED:20260114T154512Z
UID:53614-1780272000-1780703999@pal-robotics.com
SUMMARY:ICRA 2026
DESCRIPTION:🦾 ICRA Comes to Europe: PAL Robotics Showcases the Future of Robotics\nWe are thrilled to announce our continuous participation in the 2026 IEEE International Conference on Robotics and Automation (ICRA) in the heart of Europe: Vienna\, Austria. As the world’s premier forum for robotics researchers and industry pioneers\, ICRA represents the ultimate intersection of academic excellence and real-world innovation.  \nThis edition is happening in Europe\, and PAL Robotics’ mission is to showcase local developments and foster the international collaborations that drive our industry forward. We believe that true progress is achieved when we share knowledge and resources\, and we are dedicated to providing the community with the high-performance platforms necessary to test the next generation of AI and robotic algorithms. \nMeet KANGAROO and TIAGo Pro to see this in action\, and discover the way our robots fit into your R+D projects and objectives\, or empower and advance your business into smarter industry. \nOur presence in Vienna is a testament to our ongoing commitment to supporting the global research ecosystem. We look forward to connecting with visionaries\, engineers\, and students from across the globe to explore how our cutting-edge technology can empower your most ambitious projects.  \nJoin us at ICRA 2026 to discover how\, together\, we can turn the latest technological breakthroughs into reliable robotic solutions that benefit society as a whole!
URL:https://pal-robotics.com/event/icra-2026/
LOCATION:Messe Wien Exhibition Congress Center\, Messepl. 1\, Vienna\, 1021\, Austria
ATTACH;FMTTYPE=image/webp:https://pal-robotics.com/wp-content/uploads/2026/01/ICRA26_Banner-ENG-scaled.webp
END:VEVENT
BEGIN:VEVENT
DTSTART;VALUE=DATE:20260630
DTEND;VALUE=DATE:20260707
DTSTAMP:20260425T172501
CREATED:20260407T095037Z
LAST-MODIFIED:20260312T155610Z
UID:54033-1782777600-1783382399@pal-robotics.com
SUMMARY:RoboCup 2026
DESCRIPTION:The world-renowned robotics competition RoboCup returns in 2026\, bringing together leading research teams and innovative robotic platforms from across the globe. As every year\, PAL Robotics is proud to support teams competing in the RoboCup@Home League\, where our TIAGo continues to play a key role in advancing service robotics research. \nThe RoboCup@Home League focuses on developing autonomous service and assistive robots capable of operating in realistic domestic environments. Through a series of benchmark tests\, robots must demonstrate advanced capabilities such as: \n\nHuman-Robot Interaction and Cooperation\nNavigation and Mapping in dynamic environments\nComputer Vision and Object Recognition\nObject Manipulation\nAdaptive behaviours and task planning\nSystem integration and ambient intelligence\n\nThese challenges simulate everyday household scenarios\, pushing robots to interact naturally with people while autonomously completing complex tasks. \nAbout RoboCup@Home\nThe RoboCup@Home League is the largest international annual competition dedicated to autonomous service robots. It evaluates robotic systems in a realistic home environment\, including spaces such as living rooms and kitchens\, and sometimes extended environments like shops or public areas. \nTeams compete in a series of tests designed to assess real-world robotic capabilities while meeting criteria such as: \n\nSocial relevance and real-world applicability\nHuman-robot interaction\nScientific innovation\nEase of understanding for the public\nEfficient and engaging demonstrations\n\nThe competition culminates in the finals\, where the highest-ranking teams perform integrated demonstrations evaluated by a jury composed of roboticists\, industry representatives\, designers\, and members of the public.
URL:https://pal-robotics.com/event/robocup-2026/
LOCATION:Songdo Convensia\, 123 Central-ro\, Yeonsu-gu\, Incheon\, Korea\, Republic of
ATTACH;FMTTYPE=image/webp:https://pal-robotics.com/wp-content/uploads/2026/03/RoboCup-Banner_Banner-ENG-scaled.webp
END:VEVENT
END:VCALENDAR