BEGIN:VCALENDAR
VERSION:2.0
PRODID:-//PAL Robotics - ECPv6.15.15//NONSGML v1.0//EN
CALSCALE:GREGORIAN
METHOD:PUBLISH
X-WR-CALNAME:PAL Robotics
X-ORIGINAL-URL:https://pal-robotics.com
X-WR-CALDESC:Events for PAL Robotics
REFRESH-INTERVAL;VALUE=DURATION:PT1H
X-Robots-Tag:noindex
X-PUBLISHED-TTL:PT1H
BEGIN:VTIMEZONE
TZID:Europe/Madrid
BEGIN:DAYLIGHT
TZOFFSETFROM:+0100
TZOFFSETTO:+0200
TZNAME:CEST
DTSTART:20250330T010000
END:DAYLIGHT
BEGIN:STANDARD
TZOFFSETFROM:+0200
TZOFFSETTO:+0100
TZNAME:CET
DTSTART:20251026T010000
END:STANDARD
BEGIN:DAYLIGHT
TZOFFSETFROM:+0100
TZOFFSETTO:+0200
TZNAME:CEST
DTSTART:20260329T010000
END:DAYLIGHT
BEGIN:STANDARD
TZOFFSETFROM:+0200
TZOFFSETTO:+0100
TZNAME:CET
DTSTART:20261025T010000
END:STANDARD
BEGIN:DAYLIGHT
TZOFFSETFROM:+0100
TZOFFSETTO:+0200
TZNAME:CEST
DTSTART:20270328T010000
END:DAYLIGHT
BEGIN:STANDARD
TZOFFSETFROM:+0200
TZOFFSETTO:+0100
TZNAME:CET
DTSTART:20271031T010000
END:STANDARD
END:VTIMEZONE
BEGIN:VEVENT
DTSTART;VALUE=DATE:20260422
DTEND;VALUE=DATE:20260425
DTSTAMP:20260424T123244
CREATED:20260423T153840Z
LAST-MODIFIED:20260423T153840Z
UID:54711-1776816000-1777075199@pal-robotics.com
SUMMARY:FAIRPLUS
DESCRIPTION:See you in Shenzhen! PAL Robotics is heading to FAIR plus 2026\nWe are thrilled to announce our participation in FAIR plus 2026\, a premier gathering for the robotics and Artificial Intelligence ecosystem\, taking place at the Shenzhen Convention & Exhibition Center. \nAs leaders in developing cutting-edge robotic platforms\, our mission is to continue driving the innovation that defines the future of service robotics. In this edition\, our CEO and founder\, Francesco Ferro\, will take the stage to share our vision on how robotics is transforming daily life and industrial environments. \n  \nOur participation\n“May I help you?”: The evolution of Service Robotics\n📅 Wednesday 22nd \n🕐 15:00 – 15:20 (GMT+8) \n📍Hall 9\, Meeting Room 1 \nJoin us for this dialogue as we explore how our solutions are facilitating the integration of AI into the real world\, helping researchers and businesses take the next step in their technological objectives. \nLet’s connect\, collaborate\, and co-create a future where technology and humanity work hand-in-hand!
URL:https://pal-robotics.com/event/fairplus/
LOCATION:Shenzhen Convention and Exhibition Centre\, Fuhua 3rd Road\, Futian District\,\, Shenzhen\, 518016\, China
ATTACH;FMTTYPE=image/webp:https://pal-robotics.com/wp-content/uploads/2026/04/FAIRPLUS-Banner_Banner-ENG-scaled.webp
END:VEVENT
END:VCALENDAR