BEGIN:VCALENDAR
VERSION:2.0
PRODID:-//PAL Robotics - ECPv6.15.15//NONSGML v1.0//EN
CALSCALE:GREGORIAN
METHOD:PUBLISH
X-WR-CALNAME:PAL Robotics
X-ORIGINAL-URL:https://pal-robotics.com
X-WR-CALDESC:Events for PAL Robotics
REFRESH-INTERVAL;VALUE=DURATION:PT1H
X-Robots-Tag:noindex
X-PUBLISHED-TTL:PT1H
BEGIN:VTIMEZONE
TZID:Europe/Madrid
BEGIN:DAYLIGHT
TZOFFSETFROM:+0100
TZOFFSETTO:+0200
TZNAME:CEST
DTSTART:20240331T010000
END:DAYLIGHT
BEGIN:STANDARD
TZOFFSETFROM:+0200
TZOFFSETTO:+0100
TZNAME:CET
DTSTART:20241027T010000
END:STANDARD
BEGIN:DAYLIGHT
TZOFFSETFROM:+0100
TZOFFSETTO:+0200
TZNAME:CEST
DTSTART:20250330T010000
END:DAYLIGHT
BEGIN:STANDARD
TZOFFSETFROM:+0200
TZOFFSETTO:+0100
TZNAME:CET
DTSTART:20251026T010000
END:STANDARD
BEGIN:DAYLIGHT
TZOFFSETFROM:+0100
TZOFFSETTO:+0200
TZNAME:CEST
DTSTART:20260329T010000
END:DAYLIGHT
BEGIN:STANDARD
TZOFFSETFROM:+0200
TZOFFSETTO:+0100
TZNAME:CET
DTSTART:20261025T010000
END:STANDARD
END:VTIMEZONE
BEGIN:VEVENT
DTSTART;VALUE=DATE:20250121
DTEND;VALUE=DATE:20250125
DTSTAMP:20260420T085427
CREATED:20250109T091445Z
LAST-MODIFIED:20250109T091445Z
UID:45010-1737417600-1737763199@pal-robotics.com
SUMMARY:SII 2025
DESCRIPTION:How does system integration shape the future of technology? \nJoin us at the IEEE/SICE International Symposium on System Integration (SII 2025)\, the premier event for exploring the cutting-edge advancements in system integration and its applications. This year’s symposium will take place in Munich\, Germany\, from January 21st to January 24th\, 2025\, in a hybrid format\, welcoming both in-person and virtual attendees. \nAt SII 2025\, industry experts\, researchers\, and academics will converge to share insights\, discuss frontier technologies\, and showcase innovative solutions to tackle industrial and societal challenges through system integration. \nPAL Robotics is excited to announce our Silver Sponsorship of the event. We’ll also be showcasing two of our robots: the TIAGo Head and the TIAGo robot\, designed to push the boundaries of innovation in robotics and system integration. This is your chance to see our robots in action and learn how they contribute to advancing the field of robotics and system integration. \nCome visit our booth to connect with our team and explore the possibilities of collaboration. Whether you’re curious about the latest trends\, looking for innovative solutions\, or eager to discuss how our robots can address your challenges\, we’d love to hear from you. \n👉 Don’t miss this opportunity to experience the future of robotics and system integration! \nLearn more about the event here. We’ll see you in Munich!
URL:https://pal-robotics.com/event/sii-2025/
LOCATION:Holiday Inn Munich\, Hochstraße 3\, München\, 81669\, Germany
ATTACH;FMTTYPE=image/webp:https://pal-robotics.com/wp-content/uploads/2025/01/2025-SII-Munich.webp
END:VEVENT
END:VCALENDAR