BEGIN:VCALENDAR
VERSION:2.0
PRODID:-//PAL Robotics - ECPv6.15.15//NONSGML v1.0//EN
CALSCALE:GREGORIAN
METHOD:PUBLISH
X-WR-CALNAME:PAL Robotics
X-ORIGINAL-URL:https://pal-robotics.com
X-WR-CALDESC:Events for PAL Robotics
REFRESH-INTERVAL;VALUE=DURATION:PT1H
X-Robots-Tag:noindex
X-PUBLISHED-TTL:PT1H
BEGIN:VTIMEZONE
TZID:America/New_York
BEGIN:DAYLIGHT
TZOFFSETFROM:-0500
TZOFFSETTO:-0400
TZNAME:EDT
DTSTART:20240310T070000
END:DAYLIGHT
BEGIN:STANDARD
TZOFFSETFROM:-0400
TZOFFSETTO:-0500
TZNAME:EST
DTSTART:20241103T060000
END:STANDARD
BEGIN:DAYLIGHT
TZOFFSETFROM:-0500
TZOFFSETTO:-0400
TZNAME:EDT
DTSTART:20250309T070000
END:DAYLIGHT
BEGIN:STANDARD
TZOFFSETFROM:-0400
TZOFFSETTO:-0500
TZNAME:EST
DTSTART:20251102T060000
END:STANDARD
BEGIN:DAYLIGHT
TZOFFSETFROM:-0500
TZOFFSETTO:-0400
TZNAME:EDT
DTSTART:20260308T070000
END:DAYLIGHT
BEGIN:STANDARD
TZOFFSETFROM:-0400
TZOFFSETTO:-0500
TZNAME:EST
DTSTART:20261101T060000
END:STANDARD
END:VTIMEZONE
BEGIN:VEVENT
DTSTART;TZID=America/New_York:20250112T210000
DTEND;TZID=America/New_York:20250114T180000
DTSTAMP:20260420T035738
CREATED:20250109T092946Z
LAST-MODIFIED:20250416T130045Z
UID:45024-1736715600-1736877600@pal-robotics.com
SUMMARY:NRF 2025: Retail's Big Show
DESCRIPTION:  \nThey don’t call it ✨The Big Show✨ for no reason. \nWe are hyped to announce our participation in the NRF Retail’s Big Show in a few weeks! The event\, organized by the NRF Foundation\, is the largest and most influential retail gathering in the world\, bringing together more than 40\,000 professionals to explore innovations and solutions in the industry. To be part of this ecosystem and to share our knowledge with so many is a BIG highlight of our year.\nWe will be bringing our top game to this next edition with StockBot\, our RFID robot. \nNRF is the perfect place to explore the latest innovations transforming the retail industry\, and StockBot will be there to demonstrate how automation can revolutionize inventory tracking\, reduce errors\, and save time. From the 12 to 14th of January we will be there showcasing StockBot (and sharing some exciting news 👀) in the most important stage of retail innovation. \nDon’t miss the chance to see StockBot in action!\nSee you there!
URL:https://pal-robotics.com/event/nrf-2025-retails-big-show/
LOCATION:Jacob K. Javits Convention Center\, New York\, NY\, United States
ATTACH;FMTTYPE=image/webp:https://pal-robotics.com/wp-content/uploads/2025/04/NRF25-1.webp
END:VEVENT
END:VCALENDAR