BEGIN:VCALENDAR
VERSION:2.0
PRODID:-//PAL Robotics - ECPv6.15.15//NONSGML v1.0//EN
CALSCALE:GREGORIAN
METHOD:PUBLISH
X-ORIGINAL-URL:https://pal-robotics.com
X-WR-CALDESC:Events for PAL Robotics
REFRESH-INTERVAL;VALUE=DURATION:PT1H
X-Robots-Tag:noindex
X-PUBLISHED-TTL:PT1H
BEGIN:VTIMEZONE
TZID:Europe/Madrid
BEGIN:DAYLIGHT
TZOFFSETFROM:+0100
TZOFFSETTO:+0200
TZNAME:CEST
DTSTART:20230326T010000
END:DAYLIGHT
BEGIN:STANDARD
TZOFFSETFROM:+0200
TZOFFSETTO:+0100
TZNAME:CET
DTSTART:20231029T010000
END:STANDARD
BEGIN:DAYLIGHT
TZOFFSETFROM:+0100
TZOFFSETTO:+0200
TZNAME:CEST
DTSTART:20240331T010000
END:DAYLIGHT
BEGIN:STANDARD
TZOFFSETFROM:+0200
TZOFFSETTO:+0100
TZNAME:CET
DTSTART:20241027T010000
END:STANDARD
BEGIN:DAYLIGHT
TZOFFSETFROM:+0100
TZOFFSETTO:+0200
TZNAME:CEST
DTSTART:20250330T010000
END:DAYLIGHT
BEGIN:STANDARD
TZOFFSETFROM:+0200
TZOFFSETTO:+0100
TZNAME:CET
DTSTART:20251026T010000
END:STANDARD
END:VTIMEZONE
BEGIN:VEVENT
DTSTART;TZID=Europe/Madrid:20241203T180000
DTEND;TZID=Europe/Madrid:20241203T190000
DTSTAMP:20260419T230357
CREATED:20240926T151539Z
LAST-MODIFIED:20241021T124018Z
UID:16560-1733248800-1733252400@pal-robotics.com
SUMMARY:RFID and Robots: how StockBot can maximize retail efficiency?
DESCRIPTION:Did you know? Retailers lose billions annually due to inventory inaccuracies\, but RFID technology is revolutionizing the industry by improving stock visibility and management. \nWe are excited to invite you to our upcoming webinar on 3rd December\, where you will learn how StockBot can do more than just manage inventory. We will show you how to bring additional value to your business through: \n✔️ Detection of misplaced items\n✔️ Software Shielding\n✔️ ERP integration\n✔️ Money mapping \nRegister here: \n\n						\n						\nWe’ll share success stories and the real-world benefits of implementing StockBot in companies like Decathlon and other global retail leaders. \nAdditionally\, RFID technology integrators SML will share with us their experience with StockBot and Clarity software in the industry. \nJoin us and let us help you take your business one step closer to true efficiency. Don’t miss out on this opportunity to explore the future of retail!
URL:https://pal-robotics.com/event/rfid-and-robots-how-stockbot-can-maximize-retail-efficiency/
LOCATION:Virtual\, Calle Pujades 77\, 7-7\, Barcelona\, Spain
ATTACH;FMTTYPE=image/webp:https://pal-robotics.com/wp-content/uploads/2024/09/StockBot-webinar.webp
END:VEVENT
END:VCALENDAR