BEGIN:VCALENDAR
VERSION:2.0
PRODID:-//PAL Robotics - ECPv6.15.15//NONSGML v1.0//EN
CALSCALE:GREGORIAN
METHOD:PUBLISH
X-ORIGINAL-URL:https://pal-robotics.com
X-WR-CALDESC:Events for PAL Robotics
REFRESH-INTERVAL;VALUE=DURATION:PT1H
X-Robots-Tag:noindex
X-PUBLISHED-TTL:PT1H
BEGIN:VTIMEZONE
TZID:Europe/Madrid
BEGIN:DAYLIGHT
TZOFFSETFROM:+0100
TZOFFSETTO:+0200
TZNAME:CEST
DTSTART:20230326T010000
END:DAYLIGHT
BEGIN:STANDARD
TZOFFSETFROM:+0200
TZOFFSETTO:+0100
TZNAME:CET
DTSTART:20231029T010000
END:STANDARD
BEGIN:DAYLIGHT
TZOFFSETFROM:+0100
TZOFFSETTO:+0200
TZNAME:CEST
DTSTART:20240331T010000
END:DAYLIGHT
BEGIN:STANDARD
TZOFFSETFROM:+0200
TZOFFSETTO:+0100
TZNAME:CET
DTSTART:20241027T010000
END:STANDARD
BEGIN:DAYLIGHT
TZOFFSETFROM:+0100
TZOFFSETTO:+0200
TZNAME:CEST
DTSTART:20250330T010000
END:DAYLIGHT
BEGIN:STANDARD
TZOFFSETFROM:+0200
TZOFFSETTO:+0100
TZNAME:CET
DTSTART:20251026T010000
END:STANDARD
END:VTIMEZONE
BEGIN:VEVENT
DTSTART;VALUE=DATE:20241122
DTEND;VALUE=DATE:20241125
DTSTAMP:20260419T193523
CREATED:20240507T083715Z
LAST-MODIFIED:20241115T105830Z
UID:10271-1732233600-1732492799@pal-robotics.com
SUMMARY:HUMANOIDS 2024
DESCRIPTION:As the year comes to a close\, the IEEE-RAS International Conference on Humanoid Robots makes its annual return! This November 22-24\, HUMANOIDS 2024 will take place in Nancy\, France\, and PAL Robotics will be there in full force. \nOur expert team is excited to introduce you to the latest advancements in humanoid robotics\, featuring TIAGo Pro\, TALOS\, and Kangaroo. Don’t miss the chance to meet our robots and discuss the cutting-edge technologies driving the future of robotics. \nWe’re also proud to take part in these key presentations: \n\nWorkshop on Real-World Physical and Social Human-Robot Interaction (Room 103)\nAdra Cross Community Workshop – Towards general-purpose robots: connecting generative artificial intelligence to humanoids (Room 204)\n\nMark your calendars\, secure your tickets\, and join us for this incredible event. We look forward to seeing you there!
URL:https://pal-robotics.com/event/humanoids-2024/
LOCATION:Prouvé Convention Centre\, 1\, place de la République\, Nancy\, 54000\, France
ATTACH;FMTTYPE=image/webp:https://pal-robotics.com/wp-content/uploads/2024/05/Humanoids24-events-2.webp
END:VEVENT
END:VCALENDAR