BEGIN:VCALENDAR
VERSION:2.0
PRODID:-//PAL Robotics: Leading company in service robotics - ECPv6.15.15//NONSGML v1.0//EN
CALSCALE:GREGORIAN
METHOD:PUBLISH
X-ORIGINAL-URL:https://pal-robotics.com/es/
X-WR-CALDESC:Eventos para PAL Robotics: Leading company in service robotics
REFRESH-INTERVAL;VALUE=DURATION:PT1H
X-Robots-Tag:noindex
X-PUBLISHED-TTL:PT1H
BEGIN:VTIMEZONE
TZID:Europe/Madrid
BEGIN:DAYLIGHT
TZOFFSETFROM:+0100
TZOFFSETTO:+0200
TZNAME:CEST
DTSTART:20240331T010000
END:DAYLIGHT
BEGIN:STANDARD
TZOFFSETFROM:+0200
TZOFFSETTO:+0100
TZNAME:CET
DTSTART:20241027T010000
END:STANDARD
BEGIN:DAYLIGHT
TZOFFSETFROM:+0100
TZOFFSETTO:+0200
TZNAME:CEST
DTSTART:20250330T010000
END:DAYLIGHT
BEGIN:STANDARD
TZOFFSETFROM:+0200
TZOFFSETTO:+0100
TZNAME:CET
DTSTART:20251026T010000
END:STANDARD
BEGIN:DAYLIGHT
TZOFFSETFROM:+0100
TZOFFSETTO:+0200
TZNAME:CEST
DTSTART:20260329T010000
END:DAYLIGHT
BEGIN:STANDARD
TZOFFSETFROM:+0200
TZOFFSETTO:+0100
TZNAME:CET
DTSTART:20261025T010000
END:STANDARD
END:VTIMEZONE
BEGIN:VEVENT
DTSTART;VALUE=DATE:20250915
DTEND;VALUE=DATE:20250918
DTSTAMP:20260425T035630
CREATED:20250715T132622Z
LAST-MODIFIED:20250715T132622Z
UID:47774-1757894400-1758153599@pal-robotics.com
SUMMARY:ROSCON UK 2025
DESCRIPTION:Estamos listos para hablar del futuro de la robótica en ROSCon UK 2025: Impulsando el futuro de la robótica con ROS 2 🤖 \n¡Prepárate para conectar e innovar! PAL Robotics se enorgullece de anunciar su participación en ROSCon UK 2025\, que tendrá lugar en la Universidad de Edimburgo del 15 al 17 de septiembre de 2025. \nComo miembro antiguo y activo de la vibrante comunidad ROS\, PAL Robotics se dedica a avanzar en la robótica a través de la colaboración open source. Esta conferencia de 3 días es un evento principal para desarrolladores de ROS de todos los niveles para aprender\, compartir y establecer contactos. Estamos particularmente emocionados de destacar nuestros importantes esfuerzos y experiencia en la migración a ROS 2. \nSé parte de la comunidad en ROSCon UK y únete a nosotros para explorar el futuro de la robótica y ser testigo de las innovaciones que están dando forma a la próxima generación de aplicaciones robóticas.
URL:https://pal-robotics.com/es/event/roscon-uk-25/
LOCATION:Edinburgh\, UK
ATTACH;FMTTYPE=image/webp:https://pal-robotics.com/wp-content/uploads/2025/07/RosCon_Edinbutgh_Banner-ESP-1.webp
END:VEVENT
BEGIN:VEVENT
DTSTART;VALUE=DATE:20250916
DTEND;VALUE=DATE:20250919
DTSTAMP:20260425T035630
CREATED:20250715T134944Z
LAST-MODIFIED:20250812T082028Z
UID:47790-1757980800-1758239999@pal-robotics.com
SUMMARY:NRF Europa 2025
DESCRIPTION:Nos Unimos a la Conversación: ¡La Premier Europea del Gran Show de Retail! 🤖 PAL Robotics en NRF Europe 2025: \nPAL Robotics estará en NRF 2025: Retail’s Big Show Europe\, el estreno europeo del evento más importante del sector del retail. Por primera vez\, el evento tendrá lugar en París del 16 al 18 de septiembre de 2025. Nuestro equipo estará allí\, inspirándose y haciendo conexiones para seguir transformando el futuro de la automatización. \nEstamos a la vanguardia de la innovación minorista con soluciones como StockBot e integraciones con tecnología RFID avanzada\, diseñadas para revolucionar la gestión de inventario y la eficiencia operativa. \nHAZ CLIC para SABER MÁS SOBRE NUESTRA SOLUCIÓN PARA RETAIL y prepárate para conocer a nuestro equipo en París. Estaremos conociendo a los principales actores del entorno minorista europeo y discutiremos cómo la tecnología RFID\, los robots móviles autónomos\, la recopilación de datos y las plataformas de gestión de inventario trabajan juntos para crear un futuro optimizado y eficiente para la industria. \nMás de 20 años redefiniendo la robótica de servicio. Únete a nosotros para explorar cómo la robótica puede agilizar las operaciones\, mejorar la precisión y optimizar tu experiencia minorista general. \n¡Ven y descubre cómo PAL Robotics está dando forma al futuro del retail!
URL:https://pal-robotics.com/es/event/nrf-europa-25/
LOCATION:Paris Expo Porte de Versailles\, Paris\, France
ATTACH;FMTTYPE=image/webp:https://pal-robotics.com/wp-content/uploads/2025/07/NRFEu2025_Banner-ESP-scaled.webp
END:VEVENT
END:VCALENDAR