BEGIN:VCALENDAR
VERSION:2.0
PRODID:-//PAL Robotics: Leading company in service robotics - ECPv6.15.15//NONSGML v1.0//EN
CALSCALE:GREGORIAN
METHOD:PUBLISH
X-ORIGINAL-URL:https://pal-robotics.com/es/
X-WR-CALDESC:Eventos para PAL Robotics: Leading company in service robotics
REFRESH-INTERVAL;VALUE=DURATION:PT1H
X-Robots-Tag:noindex
X-PUBLISHED-TTL:PT1H
BEGIN:VTIMEZONE
TZID:Europe/Madrid
BEGIN:DAYLIGHT
TZOFFSETFROM:+0100
TZOFFSETTO:+0200
TZNAME:CEST
DTSTART:20240331T010000
END:DAYLIGHT
BEGIN:STANDARD
TZOFFSETFROM:+0200
TZOFFSETTO:+0100
TZNAME:CET
DTSTART:20241027T010000
END:STANDARD
BEGIN:DAYLIGHT
TZOFFSETFROM:+0100
TZOFFSETTO:+0200
TZNAME:CEST
DTSTART:20250330T010000
END:DAYLIGHT
BEGIN:STANDARD
TZOFFSETFROM:+0200
TZOFFSETTO:+0100
TZNAME:CET
DTSTART:20251026T010000
END:STANDARD
BEGIN:DAYLIGHT
TZOFFSETFROM:+0100
TZOFFSETTO:+0200
TZNAME:CEST
DTSTART:20260329T010000
END:DAYLIGHT
BEGIN:STANDARD
TZOFFSETFROM:+0200
TZOFFSETTO:+0100
TZNAME:CET
DTSTART:20261025T010000
END:STANDARD
END:VTIMEZONE
BEGIN:VEVENT
DTSTART;VALUE=DATE:20250902
DTEND;VALUE=DATE:20250906
DTSTAMP:20260424T143401
CREATED:20250625T105718Z
LAST-MODIFIED:20250625T110357Z
UID:47596-1756771200-1757116799@pal-robotics.com
SUMMARY:ECMR 2025
DESCRIPTION:Sobre la Conferencia Europea sobre Robots Móviles (ECMR) 2025\n¡Nos dirigimos a ECMR 2025! La Conferencia Europea sobre Robots Móviles que se celebrará del 2 al 5 de septiembre en Padua\, Italia. Nos enorgullece patrocinar este evento esencial en el mundo de la robótica móvil y los sistemas humano-robot. \nComo innovadores dedicados en el campo\, en PAL Robotics entendemos la importancia de fomentar el conocimiento y el crecimiento. Por eso\, nos entusiasma especialmente el enfoque de ECMR 2025 como una experiencia educativa\, con conferencias de expertos inspiradoras\, ponencias de vanguardia y pósteres interactivos. También presentaremos algunas de nuestras propias investigaciones sobre robots móviles autónomos y celebraremos el crecimiento de nuestra sucursal de PAL Italia. \nEsta es una fantástica oportunidad para aprender de las mentes más brillantes\, explorar nuevas investigaciones y colaborar en el futuro de la robótica móvil. \nManténganse atentos a ECMR 2025 y preparense para descubrir los avances que están dando forma a nuestra industria y cómo PAL Robotics está contribuyendo a la próxima generación de robots móviles inteligentes. ¡Esperamos verlos allí!
URL:https://pal-robotics.com/es/event/ecmr-2025-1/
LOCATION:University of Padua\, Padua\, Italy
ATTACH;FMTTYPE=image/webp:https://pal-robotics.com/wp-content/uploads/2025/06/ECMR-25-ESP-1.webp
END:VEVENT
END:VCALENDAR