BEGIN:VCALENDAR
VERSION:2.0
PRODID:-//PAL Robotics: Leading company in service robotics - ECPv6.15.15//NONSGML v1.0//EN
CALSCALE:GREGORIAN
METHOD:PUBLISH
X-ORIGINAL-URL:https://pal-robotics.com/es/
X-WR-CALDESC:Eventos para PAL Robotics: Leading company in service robotics
REFRESH-INTERVAL;VALUE=DURATION:PT1H
X-Robots-Tag:noindex
X-PUBLISHED-TTL:PT1H
BEGIN:VTIMEZONE
TZID:Europe/Madrid
BEGIN:DAYLIGHT
TZOFFSETFROM:+0100
TZOFFSETTO:+0200
TZNAME:CEST
DTSTART:20240331T010000
END:DAYLIGHT
BEGIN:STANDARD
TZOFFSETFROM:+0200
TZOFFSETTO:+0100
TZNAME:CET
DTSTART:20241027T010000
END:STANDARD
BEGIN:DAYLIGHT
TZOFFSETFROM:+0100
TZOFFSETTO:+0200
TZNAME:CEST
DTSTART:20250330T010000
END:DAYLIGHT
BEGIN:STANDARD
TZOFFSETFROM:+0200
TZOFFSETTO:+0100
TZNAME:CET
DTSTART:20251026T010000
END:STANDARD
BEGIN:DAYLIGHT
TZOFFSETFROM:+0100
TZOFFSETTO:+0200
TZNAME:CEST
DTSTART:20260329T010000
END:DAYLIGHT
BEGIN:STANDARD
TZOFFSETFROM:+0200
TZOFFSETTO:+0100
TZNAME:CET
DTSTART:20261025T010000
END:STANDARD
END:VTIMEZONE
BEGIN:VEVENT
DTSTART;VALUE=DATE:20250304
DTEND;VALUE=DATE:20250307
DTSTAMP:20260422T101815
CREATED:20250129T105927Z
LAST-MODIFIED:20250129T110506Z
UID:45977-1741046400-1741305599@pal-robotics.com
SUMMARY:HRI 2025
DESCRIPTION:¿Cómo pueden los robots mejorar la interacción humana y contribuir a un futuro sostenible?\nÚnete a nosotros en HRI 2025\, la 20ª edición de la IEEE/ACM International Conference on Human-Robot Interaction\, donde expertos de todo el mundo se reunirán para explorar la intersección entre robótica\, inteligencia artificial y dinámica social humana. El evento se celebrará del 4 al 6 de marzo en Melbourne\, Australia\, y este año gira en torno a un tema crucial: Robots para un mundo sostenible\, garantizando que la robótica ayude a resolver\, en lugar de agravar\, los desafíos globales de sostenibilidad. \nNuestra participación en HRI 2025\nNos enorgullece ser patrocinadores Gold de HRI 2025\, reafirmando nuestro compromiso con el avance de la interacción humano-robot (HRI). En nuestro stand\, podrás conocer de cerca a TIAGo y TIAGo Pro Head\, dos de nuestros robots insignia diseñados para ampliar los límites de la robótica social e interactiva. \n¿Qué tenemos preparado?\nCharla en el Industrial Day: IA en la interacción humano-robot\nEl lunes 3 de marzo\, Marc Coma ofrecerá una ponencia en el Industrial Day de HRI 2025\, que tendrá lugar en el Melbourne Convention and Exhibition Centre. En esta sesión\, explorará el papel de la inteligencia artificial en la interacción humano-robot\, proporcionando a los profesionales de la industria una visión en profundidad sobre cómo la robótica avanzada puede integrarse en aplicaciones reales. \nAdemás de presentar nuestros robots\, organizamos un tutorial interactivo: \nDe cero a un robot social interactivo con ROS4HRI y LLMs\nWeb: ros4hri.github.io/ros4hri-tutorials/interactive-social-robots\nOrganizadores: Séverin Lemaignan\, Lorenzo Ferrini\, Ferran Gebelli\, Raquel Ros\, Luka Juričič\, Sara Cooper\nEste tutorial ofrecerá una visión práctica y actualizada sobre cómo aprovechar ROS (Robot Operating System) para desarrollar robots con capacidades socio-cognitivas avanzadas\, permitiendo a los asistentes adquirir experiencia directa en HRI. \nNuestro papel en la organización de HRI 2025\nNuestro equipo desempeña un papel clave en la organización del evento: \n\nSéverin Lemaignan – General Chair\nLorenzo Ferrini – Web Chair\nRaquel Ros – Video Demos Chair\n\n¡Nos vemos en HRI 2025! \nTe invitamos a visitar nuestro stand\, donde podrás interactuar con nuestros robots\, debatir sobre los últimos avances en HRI y robótica social\, y compartir ideas sobre cómo la robótica puede contribuir a un mundo más sostenible. Tanto si eres académico\, investigador o profesional del sector\, esta es una oportunidad única para explorar el futuro de la colaboración entre humanos y robots.
URL:https://pal-robotics.com/es/event/hri-2025/
LOCATION:Convention Centre Place\, 1 Convention Centre Place\, Melbourne\, VIC 3006\, Australia
ATTACH;FMTTYPE=image/webp:https://pal-robotics.com/wp-content/uploads/2025/01/2025-HRI.webp
END:VEVENT
END:VCALENDAR